BEGIN:VCALENDAR
VERSION:2.0
PRODID:-//Conversys - ECPv6.15.13.1//NONSGML v1.0//EN
CALSCALE:GREGORIAN
METHOD:PUBLISH
X-WR-CALNAME:Conversys
X-ORIGINAL-URL:https://conversys.global
X-WR-CALDESC:Eventos para Conversys
REFRESH-INTERVAL;VALUE=DURATION:PT1H
X-Robots-Tag:noindex
X-PUBLISHED-TTL:PT1H
BEGIN:VTIMEZONE
TZID:America/Sao_Paulo
BEGIN:STANDARD
TZOFFSETFROM:-0300
TZOFFSETTO:-0300
TZNAME:-03
DTSTART:20230101T000000
END:STANDARD
END:VTIMEZONE
BEGIN:VEVENT
DTSTART;TZID=America/Sao_Paulo:20250714T090000
DTEND;TZID=America/Sao_Paulo:20250716T170000
DTSTAMP:20260426T012321
CREATED:20250530T132501Z
LAST-MODIFIED:20250530T132501Z
UID:34579-1752483600-1752685200@conversys.global
SUMMARY:Network Management with HPE Aruba Networking Central (AOS-10)\, Rev 24.41
DESCRIPTION:CURSO EM PORTUGUÊS-BR\nONLINE\nPara mais informações: training@conversys.global \n🕒 Horário: 09hrs às 17hrs
URL:https://conversys.global/treinamento/network-management-with-hpe-aruba-networking-central-aos-10-rev-24-41/
END:VEVENT
BEGIN:VEVENT
DTSTART;TZID=America/Sao_Paulo:20250616T090000
DTEND;TZID=America/Sao_Paulo:20250620T170000
DTSTAMP:20260426T012321
CREATED:20250530T132218Z
LAST-MODIFIED:20250530T132218Z
UID:34576-1750064400-1750438800@conversys.global
SUMMARY:Implementing Campus Access\, rev 23.11
DESCRIPTION:CURSO EM PORTUGUÊS-BR\nONLINE\nPara mais informações: training@conversys.global \n🕒 Horário: 09hrs às 17hrs
URL:https://conversys.global/treinamento/implementing-campus-access-rev-23-11-2/
END:VEVENT
BEGIN:VEVENT
DTSTART;TZID=America/Sao_Paulo:20250609T090000
DTEND;TZID=America/Sao_Paulo:20250613T170000
DTSTAMP:20260426T012321
CREATED:20250530T130816Z
LAST-MODIFIED:20250530T130816Z
UID:34574-1749459600-1749834000@conversys.global
SUMMARY:Implementing Campus Access\, rev 23.11
DESCRIPTION:CURSO EM ESPANHOL\nONLINE\nPara mais informações: training@conversys.global \n🕒 Horário: 09hrs às 17hrs
URL:https://conversys.global/treinamento/implementing-campus-access-rev-23-11/
END:VEVENT
BEGIN:VEVENT
DTSTART;TZID=America/Sao_Paulo:20250602T090000
DTEND;TZID=America/Sao_Paulo:20250606T170000
DTSTAMP:20260426T012321
CREATED:20250530T130553Z
LAST-MODIFIED:20250530T130658Z
UID:34572-1748854800-1749229200@conversys.global
SUMMARY:HPE Aruba Networking ClearPass Configuration
DESCRIPTION:CURSO EM PORTUGUÊS-BR\nONLINE\nPara mais informações: training@conversys.global \n🕒 Horário: 09hrs às 17hrs
URL:https://conversys.global/treinamento/hpe-aruba-networking-clearpass-configuration/
END:VEVENT
BEGIN:VEVENT
DTSTART;VALUE=DATE:20250529
DTEND;VALUE=DATE:20250531
DTSTAMP:20260426T012321
CREATED:20241216T201329Z
LAST-MODIFIED:20250306T145450Z
UID:34369-1748476800-1748649599@conversys.global
SUMMARY:Advanced Network Management with HPE Aruba Networking Central
DESCRIPTION:CURSO EM PORTUGUÊS-BR\nONLINE\nPara mais informações: training@conversys.global \n🕒 Horário: 09hrs às 17hrs
URL:https://conversys.global/treinamento/advanced-network-management-with-hpe-aruba-networking-central/
ATTACH;FMTTYPE=image/jpeg:https://conversys.global/wp-content/uploads/2022/03/p1.jpg
END:VEVENT
BEGIN:VEVENT
DTSTART;VALUE=DATE:20250519
DTEND;VALUE=DATE:20250522
DTSTAMP:20260426T012321
CREATED:20241216T201106Z
LAST-MODIFIED:20250306T145448Z
UID:34366-1747612800-1747871999@conversys.global
SUMMARY:Network Management with HPE Aruba Networking Central (AOS-10)
DESCRIPTION:CURSO EM ESPANHOL\nONLINE\nPara mais informações: training@conversys.global \n🕒 Horário: 09hrs às 17hrs
URL:https://conversys.global/treinamento/managing-aruba-cloud-based-networks-with-aruba-cental/
ATTACH;FMTTYPE=image/jpeg:https://conversys.global/wp-content/uploads/2022/03/p1.jpg
END:VEVENT
BEGIN:VEVENT
DTSTART;VALUE=DATE:20250512
DTEND;VALUE=DATE:20250517
DTSTAMP:20260426T012321
CREATED:20241216T200927Z
LAST-MODIFIED:20250306T145446Z
UID:34363-1747008000-1747439999@conversys.global
SUMMARY:Implementing Data Center Networks
DESCRIPTION:CURSO EM PORTUGUÊS-BR\nONLINE\nPara mais informações: training@conversys.global \n🕒 Horário: 09hrs às 17hrs
URL:https://conversys.global/treinamento/implementing-data-center-networks/
ATTACH;FMTTYPE=image/jpeg:https://conversys.global/wp-content/uploads/2022/03/p1.jpg
END:VEVENT
BEGIN:VEVENT
DTSTART;VALUE=DATE:20250505
DTEND;VALUE=DATE:20250510
DTSTAMP:20260426T012321
CREATED:20241216T200828Z
LAST-MODIFIED:20250306T145444Z
UID:34361-1746403200-1746835199@conversys.global
SUMMARY:Implementing Network Security\, Rev 24.41
DESCRIPTION:CURSO EM PORTUGUÊS-BR\nONLINE\nPara mais informações: training@conversys.global \n🕒 Horário: 09hrs às 17hrs
URL:https://conversys.global/treinamento/implementing-network-security-rev-24-41/
ATTACH;FMTTYPE=image/jpeg:https://conversys.global/wp-content/uploads/2022/03/p1.jpg
END:VEVENT
BEGIN:VEVENT
DTSTART;VALUE=DATE:20250414
DTEND;VALUE=DATE:20250418
DTSTAMP:20260426T012321
CREATED:20241216T202517Z
LAST-MODIFIED:20250306T145442Z
UID:34373-1744588800-1744934399@conversys.global
SUMMARY:Network Security Fundamentals
DESCRIPTION:CURSO EM PORTUGUÊS-BR\nONLINE\nPara mais informações: training@conversys.global \n🕒 Horário: 09hrs às 17hrs
URL:https://conversys.global/treinamento/network-security-fundamentals/
ATTACH;FMTTYPE=image/jpeg:https://conversys.global/wp-content/uploads/2022/03/p1.jpg
END:VEVENT
BEGIN:VEVENT
DTSTART;VALUE=DATE:20250407
DTEND;VALUE=DATE:20250412
DTSTAMP:20260426T012321
CREATED:20241216T200630Z
LAST-MODIFIED:20250306T145441Z
UID:34359-1743984000-1744415999@conversys.global
SUMMARY:AOS-CX Switching Fundamentals
DESCRIPTION:CURSO EM ESPANHOL\nONLINE\nPara mais informações: training@conversys.global \n🕒 Horário: 09hrs às 17hrs
URL:https://conversys.global/treinamento/aos-cx-switching-fundamentals/
ATTACH;FMTTYPE=image/jpeg:https://conversys.global/wp-content/uploads/2022/03/p1.jpg
END:VEVENT
BEGIN:VEVENT
DTSTART;TZID=America/Sao_Paulo:20250324T090000
DTEND;TZID=America/Sao_Paulo:20250328T170000
DTSTAMP:20260426T012321
CREATED:20241216T200012Z
LAST-MODIFIED:20250306T145439Z
UID:34354-1742806800-1743181200@conversys.global
SUMMARY:Campus Access Fundamentals
DESCRIPTION:CURSO EM ESPANHOL\nONLINE\nPara mais informações: training@conversys.global\n🕒 Horário: 09hrs às 17hrs
URL:https://conversys.global/treinamento/campus-access-fundamentals-2/
ATTACH;FMTTYPE=image/jpeg:https://conversys.global/wp-content/uploads/2022/03/p1.jpg
END:VEVENT
BEGIN:VEVENT
DTSTART;VALUE=DATE:20250317
DTEND;VALUE=DATE:20250322
DTSTAMP:20260426T012321
CREATED:20241216T195722Z
LAST-MODIFIED:20250306T145437Z
UID:34352-1742169600-1742601599@conversys.global
SUMMARY:AOS-CX Switching Fundamentals
DESCRIPTION:CURSO EM PORTUGUÊS-BR\nONLINE\nPara mais informações: training@conversys.global \n🕒 Horário: 09hrs às 17hrs
URL:https://conversys.global/treinamento/aos-cx-switching-fundamentals-2/
ATTACH;FMTTYPE=image/jpeg:https://conversys.global/wp-content/uploads/2022/03/p1.jpg
END:VEVENT
BEGIN:VEVENT
DTSTART;VALUE=DATE:20250210
DTEND;VALUE=DATE:20250215
DTSTAMP:20260426T012321
CREATED:20241216T195248Z
LAST-MODIFIED:20241216T195445Z
UID:34349-1739145600-1739577599@conversys.global
SUMMARY:Aruba ClearPass Configuration
DESCRIPTION:CURSO EM PORTUGUÊS-BR\nONLINE\nPara mais informações: treinamento@conversys.global \n🕒 Horário: 09hrs às 17hrs
URL:https://conversys.global/treinamento/aruba-clearpass-based-networks-using-central/
ATTACH;FMTTYPE=image/jpeg:https://conversys.global/wp-content/uploads/2022/03/p1.jpg
END:VEVENT
BEGIN:VEVENT
DTSTART;VALUE=DATE:20250203
DTEND;VALUE=DATE:20250206
DTSTAMP:20260426T012321
CREATED:20241209T140546Z
LAST-MODIFIED:20250120T115718Z
UID:34347-1738540800-1738799999@conversys.global
SUMMARY:Network Management with HPE Aruba Networking Central (AOS-10)
DESCRIPTION:CURSO EM PORTUGUÊS\nONLINE\nPara mais informações: treinamento@conversys.global \n🕒 Horário: 09hrs às 17hrs
URL:https://conversys.global/treinamento/managing-aruba-cloud-based-networks/
ATTACH;FMTTYPE=image/jpeg:https://conversys.global/wp-content/uploads/2022/03/p1.jpg
END:VEVENT
BEGIN:VEVENT
DTSTART;TZID=America/Sao_Paulo:20241203T090000
DTEND;TZID=America/Sao_Paulo:20241204T170000
DTSTAMP:20260426T012321
CREATED:20241114T195747Z
LAST-MODIFIED:20241114T195801Z
UID:34336-1733216400-1733331600@conversys.global
SUMMARY:Advanced Network Management of HPE Aruba Networking Central
DESCRIPTION:HÍBRIDO\nPara mais informações: treinamento@conversys.global 
URL:https://conversys.global/treinamento/advanced-network-management-of-hpe-aruba-networking-central/
LOCATION:Local:\, Rua Bandeira Paulista\, 726\, São Paulo\, São Paulo\, 04542002\, Brazil
ATTACH;FMTTYPE=image/jpeg:https://conversys.global/wp-content/uploads/2022/03/p1.jpg
END:VEVENT
BEGIN:VEVENT
DTSTART;TZID=America/Sao_Paulo:20241125T090000
DTEND;TZID=America/Sao_Paulo:20241129T170000
DTSTAMP:20260426T012321
CREATED:20240401T175904Z
LAST-MODIFIED:20241018T143852Z
UID:341-1732525200-1732899600@conversys.global
SUMMARY:Aruba ClearPass Configuration
DESCRIPTION:HÍBRIDO\nPara mais informações: treinamento@conversys.global 
URL:https://conversys.global/treinamento/aruba-clearpass-configuration-13/
LOCATION:Local:\, Rua Bandeira Paulista\, 726\, São Paulo\, São Paulo\, 04542002\, Brazil
ATTACH;FMTTYPE=image/jpeg:https://conversys.global/wp-content/uploads/2022/03/p1.jpg
END:VEVENT
BEGIN:VEVENT
DTSTART;TZID=America/Sao_Paulo:20241104T090000
DTEND;TZID=America/Sao_Paulo:20241106T170000
DTSTAMP:20260426T012322
CREATED:20241018T143707Z
LAST-MODIFIED:20241018T190310Z
UID:34325-1730710800-1730912400@conversys.global
SUMMARY:Managing Aruba Cloud-Based Networks using Central
DESCRIPTION:ONLINE\nPara mais informações: treinamento@conversys.global 
URL:https://conversys.global/treinamento/managing-aruba-cloud-based-networks-using-central/
LOCATION:Local:\, Rua Bandeira Paulista\, 726\, São Paulo\, São Paulo\, 04542002\, Brazil
ATTACH;FMTTYPE=image/jpeg:https://conversys.global/wp-content/uploads/2022/03/p1.jpg
END:VEVENT
BEGIN:VEVENT
DTSTART;TZID=America/Sao_Paulo:20241007T090000
DTEND;TZID=America/Sao_Paulo:20241011T170000
DTSTAMP:20260426T012322
CREATED:20240401T175904Z
LAST-MODIFIED:20240926T194438Z
UID:340-1728291600-1728666000@conversys.global
SUMMARY:Aruba ClearPass Configuration
DESCRIPTION:Para mais informações: treinamento@conversys.global 
URL:https://conversys.global/treinamento/aruba-clearpass-configuration-14/
LOCATION:Local:\, Rua Bandeira Paulista\, 726\, São Paulo\, São Paulo\, 04542002\, Brazil
ATTACH;FMTTYPE=image/jpeg:https://conversys.global/wp-content/uploads/2022/03/p1.jpg
END:VEVENT
BEGIN:VEVENT
DTSTART;TZID=America/Sao_Paulo:20240429T080000
DTEND;TZID=America/Sao_Paulo:20240503T170000
DTSTAMP:20260426T012322
CREATED:20240401T175904Z
LAST-MODIFIED:20240401T175904Z
UID:347-1714377600-1714755600@conversys.global
SUMMARY:Aruba ClearPass Configuration
DESCRIPTION:
URL:https://conversys.global/treinamento/aruba-clearpass-configuration-7/
LOCATION:Local:\, Rua Bandeira Paulista\, 726\, São Paulo\, São Paulo\, 04542002\, Brazil
ATTACH;FMTTYPE=image/jpeg:https://conversys.global/wp-content/uploads/2022/03/p1.jpg
END:VEVENT
BEGIN:VEVENT
DTSTART;TZID=America/Sao_Paulo:20240429T080000
DTEND;TZID=America/Sao_Paulo:20240503T170000
DTSTAMP:20260426T012322
CREATED:20240401T175904Z
LAST-MODIFIED:20240401T175904Z
UID:342-1714377600-1714755600@conversys.global
SUMMARY:Aruba ClearPass Configuration
DESCRIPTION:
URL:https://conversys.global/treinamento/aruba-clearpass-configuration-12/
LOCATION:Local:\, Rua Bandeira Paulista\, 726\, São Paulo\, São Paulo\, 04542002\, Brazil
ATTACH;FMTTYPE=image/jpeg:https://conversys.global/wp-content/uploads/2022/03/p1.jpg
END:VEVENT
BEGIN:VEVENT
DTSTART;TZID=America/Sao_Paulo:20240429T080000
DTEND;TZID=America/Sao_Paulo:20240503T170000
DTSTAMP:20260426T012322
CREATED:20240401T175904Z
LAST-MODIFIED:20240401T175904Z
UID:348-1714377600-1714755600@conversys.global
SUMMARY:Aruba ClearPass Configuration
DESCRIPTION:
URL:https://conversys.global/treinamento/aruba-clearpass-configuration-6/
LOCATION:Local:\, Rua Bandeira Paulista\, 726\, São Paulo\, São Paulo\, 04542002\, Brazil
ATTACH;FMTTYPE=image/jpeg:https://conversys.global/wp-content/uploads/2022/03/p1.jpg
END:VEVENT
BEGIN:VEVENT
DTSTART;TZID=America/Sao_Paulo:20240429T080000
DTEND;TZID=America/Sao_Paulo:20240503T170000
DTSTAMP:20260426T012322
CREATED:20240401T175904Z
LAST-MODIFIED:20240401T175904Z
UID:343-1714377600-1714755600@conversys.global
SUMMARY:Aruba ClearPass Configuration
DESCRIPTION:
URL:https://conversys.global/treinamento/aruba-clearpass-configuration-11/
LOCATION:Local:\, Rua Bandeira Paulista\, 726\, São Paulo\, São Paulo\, 04542002\, Brazil
ATTACH;FMTTYPE=image/jpeg:https://conversys.global/wp-content/uploads/2022/03/p1.jpg
END:VEVENT
BEGIN:VEVENT
DTSTART;TZID=America/Sao_Paulo:20240429T080000
DTEND;TZID=America/Sao_Paulo:20240503T170000
DTSTAMP:20260426T012322
CREATED:20240401T175904Z
LAST-MODIFIED:20240401T175904Z
UID:349-1714377600-1714755600@conversys.global
SUMMARY:Aruba ClearPass Configuration
DESCRIPTION:
URL:https://conversys.global/treinamento/aruba-clearpass-configuration-5/
LOCATION:Local:\, Rua Bandeira Paulista\, 726\, São Paulo\, São Paulo\, 04542002\, Brazil
ATTACH;FMTTYPE=image/jpeg:https://conversys.global/wp-content/uploads/2022/03/p1.jpg
END:VEVENT
BEGIN:VEVENT
DTSTART;TZID=America/Sao_Paulo:20240429T080000
DTEND;TZID=America/Sao_Paulo:20240503T170000
DTSTAMP:20260426T012322
CREATED:20240401T175904Z
LAST-MODIFIED:20240401T175904Z
UID:344-1714377600-1714755600@conversys.global
SUMMARY:Aruba ClearPass Configuration
DESCRIPTION:
URL:https://conversys.global/treinamento/aruba-clearpass-configuration-10/
LOCATION:Local:\, Rua Bandeira Paulista\, 726\, São Paulo\, São Paulo\, 04542002\, Brazil
ATTACH;FMTTYPE=image/jpeg:https://conversys.global/wp-content/uploads/2022/03/p1.jpg
END:VEVENT
BEGIN:VEVENT
DTSTART;TZID=America/Sao_Paulo:20240429T080000
DTEND;TZID=America/Sao_Paulo:20240503T170000
DTSTAMP:20260426T012322
CREATED:20240401T175904Z
LAST-MODIFIED:20240401T175904Z
UID:345-1714377600-1714755600@conversys.global
SUMMARY:Aruba ClearPass Configuration
DESCRIPTION:
URL:https://conversys.global/treinamento/aruba-clearpass-configuration-9/
LOCATION:Local:\, Rua Bandeira Paulista\, 726\, São Paulo\, São Paulo\, 04542002\, Brazil
ATTACH;FMTTYPE=image/jpeg:https://conversys.global/wp-content/uploads/2022/03/p1.jpg
END:VEVENT
BEGIN:VEVENT
DTSTART;TZID=America/Sao_Paulo:20240429T080000
DTEND;TZID=America/Sao_Paulo:20240503T170000
DTSTAMP:20260426T012322
CREATED:20240401T175904Z
LAST-MODIFIED:20240401T175904Z
UID:346-1714377600-1714755600@conversys.global
SUMMARY:Aruba ClearPass Configuration
DESCRIPTION:
URL:https://conversys.global/treinamento/aruba-clearpass-configuration-8/
LOCATION:Local:\, Rua Bandeira Paulista\, 726\, São Paulo\, São Paulo\, 04542002\, Brazil
ATTACH;FMTTYPE=image/jpeg:https://conversys.global/wp-content/uploads/2022/03/p1.jpg
END:VEVENT
BEGIN:VEVENT
DTSTART;TZID=America/Sao_Paulo:20240429T080000
DTEND;TZID=America/Sao_Paulo:20240503T170000
DTSTAMP:20260426T012322
CREATED:20240331T160359Z
LAST-MODIFIED:20240401T175904Z
UID:330-1714377600-1714755600@conversys.global
SUMMARY:Aruba ClearPass Configuration
DESCRIPTION:
URL:https://conversys.global/treinamento/aruba-clearpass-configuration-4/
LOCATION:Local:\, Rua Bandeira Paulista\, 726\, São Paulo\, São Paulo\, 04542002\, Brazil
ATTACH;FMTTYPE=image/jpeg:https://conversys.global/wp-content/uploads/2022/03/p1.jpg
END:VEVENT
BEGIN:VEVENT
DTSTART;TZID=America/Sao_Paulo:20240422T080000
DTEND;TZID=America/Sao_Paulo:20240426T170000
DTSTAMP:20260426T012322
CREATED:20240331T160354Z
LAST-MODIFIED:20240401T175904Z
UID:329-1713772800-1714150800@conversys.global
SUMMARY:Aruba ClearPass Configuration
DESCRIPTION:
URL:https://conversys.global/treinamento/aruba-clearpass-configuration-3/
LOCATION:Local:\, Rua Bandeira Paulista\, 726\, São Paulo\, São Paulo\, 04542002\, Brazil
ATTACH;FMTTYPE=image/jpeg:https://conversys.global/wp-content/uploads/2022/03/p1.jpg
END:VEVENT
BEGIN:VEVENT
DTSTART;TZID=America/Sao_Paulo:20240415T080000
DTEND;TZID=America/Sao_Paulo:20240419T170000
DTSTAMP:20260426T012322
CREATED:20240331T160344Z
LAST-MODIFIED:20240401T175904Z
UID:328-1713168000-1713546000@conversys.global
SUMMARY:Aruba ClearPass Configuration
DESCRIPTION:
URL:https://conversys.global/treinamento/aruba-clearpass-configuration-2/
LOCATION:Local:\, Rua Bandeira Paulista\, 726\, São Paulo\, São Paulo\, 04542002\, Brazil
ATTACH;FMTTYPE=image/jpeg:https://conversys.global/wp-content/uploads/2022/03/p1.jpg
END:VEVENT
BEGIN:VEVENT
DTSTART;TZID=America/Sao_Paulo:20240401T080000
DTEND;TZID=America/Sao_Paulo:20240405T170000
DTSTAMP:20260426T012322
CREATED:20240331T160256Z
LAST-MODIFIED:20240401T175904Z
UID:325-1711958400-1712336400@conversys.global
SUMMARY:Aruba ClearPass Configuration
DESCRIPTION:
URL:https://conversys.global/treinamento/aruba-clearpass-configuration/
LOCATION:Local:\, Rua Bandeira Paulista\, 726\, São Paulo\, São Paulo\, 04542002\, Brazil
ATTACH;FMTTYPE=image/jpeg:https://conversys.global/wp-content/uploads/2022/03/p1.jpg
END:VEVENT
END:VCALENDAR